BEGIN:VCALENDAR
VERSION:2.0
PRODID:Spatie calendar-links
BEGIN:VEVENT
UID:https://dresden-plauen-trifft-sich.de/?post_type=mi-event-date&#038;p=3674
SUMMARY:3. Kinderliteraturfestival
DTSTAMP:20260424T130000Z
DTSTART:20260424T130000Z
DTEND:20260424T160000Z
DESCRIPTION:Mehr Informationen: https://dresden-plauen-trifft-sich.de/veranstaltungen/3-kinderliteraturfestival/
LOCATION:Altplauen 1\, 01187 Dresden  OT Plauen
END:VEVENT
END:VCALENDAR